BEGIN:VCALENDAR
VERSION:2.0
PRODID:-//American Composites Manufacturers Association - ECPv6.15.17.1//NONSGML v1.0//EN
CALSCALE:GREGORIAN
METHOD:PUBLISH
X-WR-CALNAME:American Composites Manufacturers Association
X-ORIGINAL-URL:https://acmanet-redesign.matrixdev.net
X-WR-CALDESC:Events for American Composites Manufacturers Association
REFRESH-INTERVAL;VALUE=DURATION:PT1H
X-Robots-Tag:noindex
X-PUBLISHED-TTL:PT1H
BEGIN:VTIMEZONE
TZID:America/New_York
BEGIN:DAYLIGHT
TZOFFSETFROM:-0500
TZOFFSETTO:-0400
TZNAME:EDT
DTSTART:20230312T070000
END:DAYLIGHT
BEGIN:STANDARD
TZOFFSETFROM:-0400
TZOFFSETTO:-0500
TZNAME:EST
DTSTART:20231105T060000
END:STANDARD
BEGIN:DAYLIGHT
TZOFFSETFROM:-0500
TZOFFSETTO:-0400
TZNAME:EDT
DTSTART:20240310T070000
END:DAYLIGHT
BEGIN:STANDARD
TZOFFSETFROM:-0400
TZOFFSETTO:-0500
TZNAME:EST
DTSTART:20241103T060000
END:STANDARD
BEGIN:DAYLIGHT
TZOFFSETFROM:-0500
TZOFFSETTO:-0400
TZNAME:EDT
DTSTART:20250309T070000
END:DAYLIGHT
BEGIN:STANDARD
TZOFFSETFROM:-0400
TZOFFSETTO:-0500
TZNAME:EST
DTSTART:20251102T060000
END:STANDARD
END:VTIMEZONE
BEGIN:VEVENT
DTSTART;TZID=America/New_York:20240124T130000
DTEND;TZID=America/New_York:20240124T140000
DTSTAMP:20260421T114223
CREATED:20240122T162349Z
LAST-MODIFIED:20240129T164941Z
UID:9293-1706101200-1706104800@acmanet-redesign.matrixdev.net
SUMMARY:Webinar: Hot Topics in Washington: EPA Funding\, WRDA Consideration & Taxes
DESCRIPTION:Learn from ACMA’s John Schweitzer and Dan Neumann about the latest developments in Washington as we head into a contentious election year. This webinar will also cover key issues that will be covered at the 2024 fly in February 26-28 and how these will directly impact your business. Fly-In attendees will learn the latest developments regarding ACMA’s work to secure EPA funding to help produce Environmental Product Declarations necessary for composites manufacturers to continue to fulfill contracts with any federal funding. Also\, congressional consideration of the Water Resources Development Act will be essential to continuing our efforts to work with the U.S. Army Corps of Engineers and to expand the ways the Corps will use composites. Attendees will help us secure significant victories that will benefit the composites industry for years to come. Lastly\, we will discuss how fly-in attendees will work to secure better tax treatment for research and development expenses to ensure that the composites industries can maximize the tax benefits for our innovative industry.
URL:https://acmanet-redesign.matrixdev.net/event/webinar-hot-topics-in-washington-epa-funding-wrda-consideration-taxes/
CATEGORIES:Webinar
ATTACH;FMTTYPE=image/jpeg:https://acmanet-redesign.matrixdev.net/wp-content/uploads/2024/01/iStock-1768461785.jpg
END:VEVENT
END:VCALENDAR