BEGIN:VCALENDAR
VERSION:2.0
PRODID:-//American Composites Manufacturers Association - ECPv6.15.17.1//NONSGML v1.0//EN
CALSCALE:GREGORIAN
METHOD:PUBLISH
X-WR-CALNAME:American Composites Manufacturers Association
X-ORIGINAL-URL:https://acmanet-redesign.matrixdev.net
X-WR-CALDESC:Events for American Composites Manufacturers Association
REFRESH-INTERVAL;VALUE=DURATION:PT1H
X-Robots-Tag:noindex
X-PUBLISHED-TTL:PT1H
BEGIN:VTIMEZONE
TZID:America/New_York
BEGIN:DAYLIGHT
TZOFFSETFROM:-0500
TZOFFSETTO:-0400
TZNAME:EDT
DTSTART:20230312T070000
END:DAYLIGHT
BEGIN:STANDARD
TZOFFSETFROM:-0400
TZOFFSETTO:-0500
TZNAME:EST
DTSTART:20231105T060000
END:STANDARD
BEGIN:DAYLIGHT
TZOFFSETFROM:-0500
TZOFFSETTO:-0400
TZNAME:EDT
DTSTART:20240310T070000
END:DAYLIGHT
BEGIN:STANDARD
TZOFFSETFROM:-0400
TZOFFSETTO:-0500
TZNAME:EST
DTSTART:20241103T060000
END:STANDARD
BEGIN:DAYLIGHT
TZOFFSETFROM:-0500
TZOFFSETTO:-0400
TZNAME:EDT
DTSTART:20250309T070000
END:DAYLIGHT
BEGIN:STANDARD
TZOFFSETFROM:-0400
TZOFFSETTO:-0500
TZNAME:EST
DTSTART:20251102T060000
END:STANDARD
END:VTIMEZONE
BEGIN:VEVENT
DTSTART;VALUE=DATE:20240326
DTEND;VALUE=DATE:20240329
DTSTAMP:20260421T173606
CREATED:20240128T162739Z
LAST-MODIFIED:20240129T165658Z
UID:9297-1711411200-1711670399@acmanet-redesign.matrixdev.net
SUMMARY:Thermoplastics Composites Conference
DESCRIPTION:ACMA’s Thermoplastic Composites Conference (TCC) is an insightful and collaborative event that focuses on high-performance thermoplastic composites innovations\, applications\, and technology. This conference is dedicated to sharing knowledge and fostering education by exploring the advancements and opportunities that exist today and those expected to shape the future. Attendees can expect to benefit from the return of ACMA’s highly-regarded composites education program\, featuring more than 20 dynamic sessions led by industry experts. The conference will bring together over 200 industry leaders and professionals\, providing an excellent networking opportunity for attendees to connect with like-minded individuals and establish valuable professional relationships. Join your peers on March 26 – 28\, 2024 in San Diego\, CA!
URL:https://acmanet-redesign.matrixdev.net/event/thermoplastics-composites-conference/
LOCATION:San Diego\, CA
CATEGORIES:Meeting
ATTACH;FMTTYPE=image/jpeg:https://acmanet-redesign.matrixdev.net/wp-content/uploads/2024/01/tcc-events-page.jpg
END:VEVENT
END:VCALENDAR